BEGIN:VCALENDAR
VERSION:2.0
PRODID:-//wp-events-plugin.com//7.2.3.1//EN
TZID:America/New_York
X-WR-TIMEZONE:America/New_York
BEGIN:VEVENT
UID:845@arboretum.psu.edu
DTSTART;TZID=America/New_York:20250517T090000
DTEND;TZID=America/New_York:20250517T170000
DTSTAMP:20250429T103018Z
URL:https://arboretum.psu.edu/events/wild-wellness/
SUMMARY:Wild Wellness
DESCRIPTION:Explore the benefits of movement\, art\, and mindfulness during
  this health-promoting event for all ages. Food trucks\, vendors\, and a c
 ombination of paid and free programming will be available.
ATTACH;FMTTYPE=image/jpeg:https://arboretum.psu.edu/wp-content/uploads/202
 5/03/wild-wellness-featured-image.jpg
CATEGORIES:Educational Programs,Featured Event
LOCATION:H.O. Smith Botanic Gardens\, Corner of Park Avenue and Bigler Road
 \, University Park\, PA\, 16802\, United States
X-APPLE-STRUCTURED-LOCATION;VALUE=URI;X-ADDRESS=Corner of Park Avenue and B
 igler Road\, University Park\, PA\, 16802\, United States;X-APPLE-RADIUS=1
 00;X-TITLE=H.O. Smith Botanic Gardens:geo:0,0
END:VEVENT
BEGIN:VTIMEZONE
TZID:America/New_York
X-LIC-LOCATION:America/New_York
BEGIN:DAYLIGHT
DTSTART:20250309T030000
TZOFFSETFROM:-0500
TZOFFSETTO:-0400
TZNAME:EDT
END:DAYLIGHT
END:VTIMEZONE
END:VCALENDAR