BEGIN:VCALENDAR
VERSION:2.0
PRODID:-//wp-events-plugin.com//7.2.3.1//EN
TZID:America/New_York
X-WR-TIMEZONE:America/New_York
BEGIN:VEVENT
UID:743@arboretum.psu.edu
DTSTART;TZID=America/New_York:20241026T190000
DTEND;TZID=America/New_York:20241026T213000
DTSTAMP:20241023T105920Z
URL:https://arboretum.psu.edu/events/nittany-lights/
SUMMARY:Nittany Lights
DESCRIPTION:Experience the Childhood's Gate Children’s Garden in a whole 
 new light during this enchanting\, one-night-only artistic lighting displa
 y! Nittany Lights brings together talented students and professional light
 ing designers to transform the garden into a magical wonderland after dark
 . Bring your family and friends to enjoy an immersive\, fun-filled evening
  of whimsy\, wonder\, and creativity. Don’t miss this unique opportunity
  to see the garden sparkle like never before!\n\nWhile the gardens ordinar
 ily close at dusk\, you are welcome to visit until 9:30 p.m. during the Ni
 ttany Lights event.
CATEGORIES:Featured Event
LOCATION:Childhood's Gate Children's Garden\, H.O. Smith Botanic Gardens\, 
 University Park\, PA\, 16802\, United States
X-APPLE-STRUCTURED-LOCATION;VALUE=URI;X-ADDRESS=H.O. Smith Botanic Gardens\
 , University Park\, PA\, 16802\, United States;X-APPLE-RADIUS=100;X-TITLE=
 Childhood's Gate Children's Garden:geo:0,0
END:VEVENT
BEGIN:VTIMEZONE
TZID:America/New_York
X-LIC-LOCATION:America/New_York
BEGIN:DAYLIGHT
DTSTART:20240310T030000
TZOFFSETFROM:-0500
TZOFFSETTO:-0400
TZNAME:EDT
END:DAYLIGHT
END:VTIMEZONE
END:VCALENDAR