BEGIN:VCALENDAR
VERSION:2.0
PRODID:-//wp-events-plugin.com//7.2.3.1//EN
TZID:America/New_York
X-WR-TIMEZONE:America/New_York
BEGIN:VEVENT
UID:691@arboretum.psu.edu
DTSTART;TZID=America/New_York:20241018T100000
DTEND;TZID=America/New_York:20241018T170000
DTSTAMP:20240814T182310Z
URL:https://arboretum.psu.edu/events/jack-o-lantern-return/
SUMMARY:Return Your Carved Jack-o'-Lantern
DESCRIPTION:Carved jack-o’-lanterns must be returned at this time for inc
 lusion in the Pumpkin Fest carving contest.
CATEGORIES:Educational Programs,Youth Programs
LOCATION:H.O. Smith Botanic Gardens\, Corner of Park Avenue and Bigler Road
 \, University Park\, PA\, 16802\, United States
X-APPLE-STRUCTURED-LOCATION;VALUE=URI;X-ADDRESS=Corner of Park Avenue and B
 igler Road\, University Park\, PA\, 16802\, United States;X-APPLE-RADIUS=1
 00;X-TITLE=H.O. Smith Botanic Gardens:geo:0,0
END:VEVENT
BEGIN:VTIMEZONE
TZID:America/New_York
X-LIC-LOCATION:America/New_York
BEGIN:DAYLIGHT
DTSTART:20240310T030000
TZOFFSETFROM:-0500
TZOFFSETTO:-0400
TZNAME:EDT
END:DAYLIGHT
END:VTIMEZONE
END:VCALENDAR