BEGIN:VCALENDAR
VERSION:2.0
PRODID:-//wp-events-plugin.com//7.2.3.1//EN
TZID:America/New_York
X-WR-TIMEZONE:America/New_York
BEGIN:VEVENT
UID:777@arboretum.psu.edu
DTSTART;TZID=America/New_York:20250215T163000
DTEND;TZID=America/New_York:20250215T180000
DTSTAMP:20250129T205950Z
URL:https://arboretum.psu.edu/events/dissection-date-night/
SUMMARY:Dissection Date Night
DESCRIPTION:Spice up your evening with a date that's equal parts science an
 d fun!
ATTACH;FMTTYPE=image/jpeg:https://arboretum.psu.edu/wp-content/uploads/202
 4/12/Dissection-date-night.jpg
CATEGORIES:Classes, Lectures, and Seminars
LOCATION:Palmer Museum Studio Classroom\, Admin and Education Wing (124 Pal
 mer Museum of Art)\, Bigler Rd\, University Park\, PA\, 16802\, United Sta
 tes
X-APPLE-STRUCTURED-LOCATION;VALUE=URI;X-ADDRESS=Bigler Rd\, University Park
 \, PA\, 16802\, United States;X-APPLE-RADIUS=100;X-TITLE=Palmer Museum Stu
 dio Classroom\, Admin and Education Wing (124 Palmer Museum of Art):geo:0,
 0
END:VEVENT
BEGIN:VTIMEZONE
TZID:America/New_York
X-LIC-LOCATION:America/New_York
BEGIN:STANDARD
DTSTART:20241103T010000
TZOFFSETFROM:-0400
TZOFFSETTO:-0500
TZNAME:EST
END:STANDARD
END:VTIMEZONE
END:VCALENDAR