BEGIN:VCALENDAR
VERSION:2.0
PRODID:-//wp-events-plugin.com//7.2.3.1//EN
TZID:America/New_York
X-WR-TIMEZONE:America/New_York
BEGIN:VEVENT
UID:1026@arboretum.psu.edu
DTSTART;TZID=America/New_York:20250824T170000
DTEND;TZID=America/New_York:20250824T180000
DTSTAMP:20250724T165144Z
URL:https://arboretum.psu.edu/events/botanical-hamsas/
SUMMARY:Botanical Hamsas
DESCRIPTION:Combine an ancient symbol of good luck with botanicals harveste
 d from the gardens to create a lovely papercraft accessible to all levels 
 of artistic expertise.
ATTACH;FMTTYPE=image/jpeg:https://arboretum.psu.edu/wp-content/uploads/202
 5/07/hamsa-scaled.jpg
CATEGORIES:Classes, Lectures, and Seminars,Educational Programs
LOCATION:Palmer Museum Studio Classroom\, Admin and Education Wing (124 Pal
 mer Museum of Art)\, Bigler Rd\, University Park\, PA\, 16802\, United Sta
 tes
X-APPLE-STRUCTURED-LOCATION;VALUE=URI;X-ADDRESS=Bigler Rd\, University Park
 \, PA\, 16802\, United States;X-APPLE-RADIUS=100;X-TITLE=Palmer Museum Stu
 dio Classroom\, Admin and Education Wing (124 Palmer Museum of Art):geo:0,
 0
END:VEVENT
BEGIN:VTIMEZONE
TZID:America/New_York
X-LIC-LOCATION:America/New_York
BEGIN:DAYLIGHT
DTSTART:20250309T030000
TZOFFSETFROM:-0500
TZOFFSETTO:-0400
TZNAME:EDT
END:DAYLIGHT
END:VTIMEZONE
END:VCALENDAR