BEGIN:VCALENDAR
VERSION:2.0
PRODID:-//wp-events-plugin.com//7.2.3.1//EN
TZID:America/New_York
X-WR-TIMEZONE:America/New_York
BEGIN:VEVENT
UID:710@arboretum.psu.edu
DTSTART;TZID=America/New_York:20250117T110000
DTEND;TZID=America/New_York:20250117T120000
DTSTAMP:20241115T175733Z
URL:https://arboretum.psu.edu/events/arboretum-explorers-4/
SUMMARY:Arboretum Explorers Family Hike
DESCRIPTION:Join childhood educators from the Arboretum for a guided explor
 ation of the Arboretum’s wild areas. The walk will depart from the Overl
 ook Pavilion\, #15 on the Arboretum map (PDF)\, and proceed to Hartley Woo
 d.\n\nPlease wear shoes suitable for rustic trails and dress for the weath
 er. This program will be held rain or shine\, but may be canceled without 
 notice in the event of extreme weather.\nThe program is free but registrat
 ion is required. Children must be accompanied by a parent or guardian who 
 is responsible for their supervision at all times. Please leave pets at ho
 me!\n\n\n[fusion_button link="https://pennstate.qualtrics.com/jfe/form/SV_
 2aFXeyusP56cckK" target="_self" hide_on_mobile="small-visibility\,medium-v
 isibility\,large-visibility" sticky_display="normal\,sticky" color="defaul
 t" linear_angle="180" stretch="default" icon_position="left" icon_divider=
 "no" hover_transition="none" animation_direction="left" animation_speed="0
 .3" animation_delay="0"]Register[/fusion_button]\n\nIf you have questions 
 or concerns\, please contact programs coordinator Rebecca Horwitt at ruh21
 2@psu.edu.\n\nYou can support this and other free programming at the Arbor
 etum by making a donation.\n\n
ATTACH;FMTTYPE=image/jpeg:https://arboretum.psu.edu/wp-content/uploads/202
 4/11/Arboretum-explorer-gnome.jpg
CATEGORIES:Guided Walks,Youth Programs
LOCATION:Overlook Pavilion\, H.O. Smith Botanic Gardens at corner of Park A
 venue and Bigler Road\, University Park\, PA\, 16802\, United States
X-APPLE-STRUCTURED-LOCATION;VALUE=URI;X-ADDRESS=H.O. Smith Botanic Gardens 
 at corner of Park Avenue and Bigler Road\, University Park\, PA\, 16802\, 
 United States;X-APPLE-RADIUS=100;X-TITLE=Overlook Pavilion:geo:0,0
END:VEVENT
BEGIN:VTIMEZONE
TZID:America/New_York
X-LIC-LOCATION:America/New_York
BEGIN:STANDARD
DTSTART:20241103T010000
TZOFFSETFROM:-0400
TZOFFSETTO:-0500
TZNAME:EST
END:STANDARD
END:VTIMEZONE
END:VCALENDAR