BEGIN:VCALENDAR
VERSION:2.0
PRODID:-//wp-events-plugin.com//7.2.3.1//EN
TZID:America/New_York
X-WR-TIMEZONE:America/New_York
BEGIN:VEVENT
UID:846@arboretum.psu.edu
DTSTART;TZID=America/New_York:20250412T100000
DTEND;TZID=America/New_York:20250412T140000
DTSTAMP:20250410T212516Z
URL:https://arboretum.psu.edu/events/anthrofest-2/
SUMMARY:AnthroFest
DESCRIPTION:Discover the human experience during a hands-on\, interactive e
 vent for all ages\, presented by the Anthropology Graduate Student Associa
 tion!
ATTACH;FMTTYPE=image/jpeg:https://arboretum.psu.edu/wp-content/uploads/202
 5/03/anthrofest.jpg
CATEGORIES:Educational Programs,Featured Event,Youth Programs
LOCATION:Childhood's Gate Children's Garden\, H.O. Smith Botanic Gardens\, 
 University Park\, PA\, 16802\, United States
X-APPLE-STRUCTURED-LOCATION;VALUE=URI;X-ADDRESS=H.O. Smith Botanic Gardens\
 , University Park\, PA\, 16802\, United States;X-APPLE-RADIUS=100;X-TITLE=
 Childhood's Gate Children's Garden:geo:0,0
END:VEVENT
BEGIN:VTIMEZONE
TZID:America/New_York
X-LIC-LOCATION:America/New_York
BEGIN:DAYLIGHT
DTSTART:20250309T030000
TZOFFSETFROM:-0500
TZOFFSETTO:-0400
TZNAME:EDT
END:DAYLIGHT
END:VTIMEZONE
END:VCALENDAR